BEGIN:VCALENDAR
VERSION:2.0
PRODID:icalendar-ruby
CALSCALE:GREGORIAN
METHOD:PUBLISH
BEGIN:VEVENT
DTSTAMP:20260424T153449Z
UID:33-3117251@mviewpc.org
DTSTART:20260920T000000Z
DTEND:20260920T010000Z
CLASS:PUBLIC
CREATED:20260424T074944
DESCRIPTION:AA MEETINGS - SATURDAYS\nDate: Every Saturday\nTime: 5:00pm –
  6:00pm\nLocation: Mountain View Presbyterian Church\n8601 Del Webb Blvd.\
 , Las Vegas\, NV 89134\nMore Information: 702-341-7800 or mvpc@mviewpc.org
  
LAST-MODIFIED:20260424T074944
LOCATION:Fellowship Hall
SUMMARY:AA Meeting - Saturdays
URL;VALUE=URI:https://www.mviewpc.org/events/aa-meeting-saturdays/2026-09-1
 9
ATTACH;FILENAME=23.png;FMTTYPE=image/png:https://dq5pwpg1q8ru0.cloudfront.n
 et/2023/10/18/16/39/10/c138e4ef-668e-4123-82c0-19e9eda669ef/23.png
END:VEVENT
END:VCALENDAR
