BEGIN:VCALENDAR
VERSION:2.0
PRODID:icalendar-ruby
CALSCALE:GREGORIAN
METHOD:PUBLISH
BEGIN:VEVENT
DTSTAMP:20260422T062413Z
UID:202-3087505@mviewpc.org
DTSTART:20260923T180000Z
DTEND:20260923T190000Z
CLASS:PUBLIC
CREATED:20260421T175103
DESCRIPTION:
LAST-MODIFIED:20260421T175103
LOCATION:Sanctuary
SUMMARY:Prayer Group
URL;VALUE=URI:https://www.mviewpc.org/events/prayer-group--202/2026-09-23
END:VEVENT
END:VCALENDAR
