BEGIN:VCALENDAR
VERSION:2.0
PRODID:icalendar-ruby
CALSCALE:GREGORIAN
METHOD:PUBLISH
BEGIN:VEVENT
DTSTAMP:20260422T091204Z
UID:202-3087507@mviewpc.org
DTSTART:20261007T180000Z
DTEND:20261007T190000Z
CLASS:PUBLIC
CREATED:20260421T175103
DESCRIPTION:
LAST-MODIFIED:20260421T175103
LOCATION:Sanctuary
SUMMARY:Prayer Group
URL;VALUE=URI:https://www.mviewpc.org/events/prayer-group--202/2026-10-07
END:VEVENT
END:VCALENDAR
