BEGIN:VCALENDAR
VERSION:2.0
PRODID:icalendar-ruby
CALSCALE:GREGORIAN
METHOD:PUBLISH
BEGIN:VEVENT
DTSTAMP:20260422T134329Z
UID:202-3089689@mviewpc.org
DTSTART:20261028T180000Z
DTEND:20261028T190000Z
CLASS:PUBLIC
CREATED:20260422T045502
DESCRIPTION:
LAST-MODIFIED:20260422T045502
LOCATION:Sanctuary
SUMMARY:Prayer Group
URL;VALUE=URI:https://www.mviewpc.org/events/prayer-group--202/2026-10-28
END:VEVENT
END:VCALENDAR
