BEGIN:VCALENDAR
VERSION:2.0
PRODID:icalendar-ruby
CALSCALE:GREGORIAN
METHOD:PUBLISH
BEGIN:VEVENT
DTSTAMP:20260422T230044Z
UID:35-3095596@mviewpc.org
DTSTART:20261101T210000Z
DTEND:20261102T000000Z
CLASS:PUBLIC
CREATED:20260422T134014
DESCRIPTION:REFORMED CHURCH MEETING\nDate: Every Sunday\nTime: 1:00pm – 4
 :00pm\nLocation: Mountain View Presbyterian Church\n8601 Del Webb Blvd.\, 
 Las Vegas\, NV 89134\nMore Information: 702-341-7800 or mvpc@mviewpc.org 
LAST-MODIFIED:20260422T134014
LOCATION:Fellowship Hall\, Mountain View Presbyterian Church
SUMMARY:Reformed Church Meeting
URL;VALUE=URI:https://www.mviewpc.org/events/reformed-church-meeting/2026-1
 1-01
ATTACH;FILENAME=24.png;FMTTYPE=image/png:https://dq5pwpg1q8ru0.cloudfront.n
 et/2023/10/18/16/40/30/6479d7b4-359d-4832-ad97-285de108ada8/24.png
END:VEVENT
END:VCALENDAR
