BEGIN:VCALENDAR
VERSION:2.0
PRODID:icalendar-ruby
CALSCALE:GREGORIAN
METHOD:PUBLISH
BEGIN:VEVENT
DTSTAMP:20260424T103607Z
UID:3-3111653@mviewpc.org
DTSTART:20260927T233000Z
DTEND:20260928T020000Z
CLASS:PUBLIC
CREATED:20260423T192758
DESCRIPTION:YOUTH GROUP\n6th Grade thru 12th Grade\nMVPC's Youth Group embo
 dies the essence of the church's foundational beliefs\, fostering a sense 
 of connection and unwavering acceptance. With a commitment to meeting youn
 g individuals exactly where they are in their spiritual journey\, this vib
 rant youth group provides a safe space for exploration\, growth\, and genu
 ine companionship. Rooted in the idea that faith should be a source of joy
 \, the group not only dives deep into meaningful discussions but also shar
 es moments of laughter\, aligning perfectly with the motto "laugh often an
 d fear not."\nOur Youth Group allows our youth to engage with faith\, navi
 gate life's challenges\, and uplift one another in an environment of trust
  and authenticity. Here\, friendships flourish\, and spiritual connections
  deepen\, in alignment with the church's overarching mission of fostering 
 a community of connection for all ages.\nDate: Every Sunday\nTime: 4:30pm 
 - 6:30pm\nLocation: Youth Room – second floor in Fellowship Hall
LAST-MODIFIED:20260423T192758
LOCATION:Youth Room – second floor in Fellowship Hall
SUMMARY:Youth Group
URL;VALUE=URI:https://www.mviewpc.org/events/youth-group/2026-09-27
ATTACH;FILENAME=youth-group.png;FMTTYPE=image/png:https://dq5pwpg1q8ru0.clo
 udfront.net/2023/10/11/15/00/45/b437e68c-f33c-42b8-8acf-8ee6e1c86e41/youth
 -group.png
END:VEVENT
END:VCALENDAR
